BEGIN:VCALENDAR
VERSION:2.0
PRODID:-//Mid-South Peace &amp; Justice Center - ECPv6.15.20//NONSGML v1.0//EN
CALSCALE:GREGORIAN
METHOD:PUBLISH
X-ORIGINAL-URL:https://midsouthpeace.org
X-WR-CALDESC:Events for Mid-South Peace &amp; Justice Center
REFRESH-INTERVAL;VALUE=DURATION:PT1H
X-Robots-Tag:noindex
X-PUBLISHED-TTL:PT1H
BEGIN:VTIMEZONE
TZID:America/Chicago
BEGIN:DAYLIGHT
TZOFFSETFROM:-0600
TZOFFSETTO:-0500
TZNAME:CDT
DTSTART:20120311T080000
END:DAYLIGHT
BEGIN:STANDARD
TZOFFSETFROM:-0500
TZOFFSETTO:-0600
TZNAME:CST
DTSTART:20121104T070000
END:STANDARD
BEGIN:DAYLIGHT
TZOFFSETFROM:-0600
TZOFFSETTO:-0500
TZNAME:CDT
DTSTART:20130310T080000
END:DAYLIGHT
BEGIN:STANDARD
TZOFFSETFROM:-0500
TZOFFSETTO:-0600
TZNAME:CST
DTSTART:20131103T070000
END:STANDARD
BEGIN:DAYLIGHT
TZOFFSETFROM:-0600
TZOFFSETTO:-0500
TZNAME:CDT
DTSTART:20140309T080000
END:DAYLIGHT
BEGIN:STANDARD
TZOFFSETFROM:-0500
TZOFFSETTO:-0600
TZNAME:CST
DTSTART:20141102T070000
END:STANDARD
END:VTIMEZONE
BEGIN:VEVENT
DTSTART;TZID=America/Chicago:20131019T090000
DTEND;TZID=America/Chicago:20131019T190000
DTSTAMP:20260424T172825
CREATED:20160818T084808Z
LAST-MODIFIED:20160818T084808Z
UID:1466-1382173200-1382209200@midsouthpeace.org
SUMMARY:2013 Gandhi-King Community Conference
DESCRIPTION:Nonviolent Communication\n  \n      Explore and gain practice in specific skills for Nonviolent Communication\, such as Active Listening and “I-messaging.” And explore and connect with the universal human needs and values.\n  \n  Find out more...
URL:https://midsouthpeace.org/event/2013-gandhi-king-community-conference/
LOCATION:TN
END:VEVENT
BEGIN:VEVENT
DTSTART;TZID=America/Chicago:20131026T140000
DTEND;TZID=America/Chicago:20131026T170000
DTSTAMP:20260424T172825
CREATED:20160818T084846Z
LAST-MODIFIED:20160818T084846Z
UID:1468-1382796000-1382806800@midsouthpeace.org
SUMMARY:Media 201
DESCRIPTION:Nonviolent Communication\n  \n      Explore and gain practice in specific skills for Nonviolent Communication\, such as Active Listening and “I-messaging.” And explore and connect with the universal human needs and values.\n  \n  Find out more...
URL:https://midsouthpeace.org/event/media-201/
LOCATION:TN
END:VEVENT
BEGIN:VEVENT
DTSTART;TZID=America/Chicago:20131027T140000
DTEND;TZID=America/Chicago:20131027T170000
DTSTAMP:20260424T172825
CREATED:20160818T084923Z
LAST-MODIFIED:20160818T084923Z
UID:1470-1382882400-1382893200@midsouthpeace.org
SUMMARY:Parenting from the Heart
DESCRIPTION:Nonviolent Communication\n  \n      Explore and gain practice in specific skills for Nonviolent Communication\, such as Active Listening and “I-messaging.” And explore and connect with the universal human needs and values.\n  \n  Find out more...
URL:https://midsouthpeace.org/event/parenting-from-the-heart-2/
LOCATION:TN
END:VEVENT
END:VCALENDAR